BEGIN:VCALENDAR
VERSION:2.0
PRODID:-//SUPRA - ECPv5.1.4//NONSGML v1.0//EN
CALSCALE:GREGORIAN
METHOD:PUBLISH
X-WR-CALNAME:SUPRA
X-ORIGINAL-URL:https://supra.net.au
X-WR-CALDESC:Events for SUPRA
BEGIN:VTIMEZONE
TZID:Australia/Sydney
BEGIN:STANDARD
TZOFFSETFROM:+1100
TZOFFSETTO:+1000
TZNAME:AEST
DTSTART:20210403T160000
END:STANDARD
BEGIN:DAYLIGHT
TZOFFSETFROM:+1000
TZOFFSETTO:+1100
TZNAME:AEDT
DTSTART:20211002T160000
END:DAYLIGHT
END:VTIMEZONE
BEGIN:VEVENT
DTSTART;TZID=Australia/Sydney:20210325T180000
DTEND;TZID=Australia/Sydney:20210325T200000
DTSTAMP:20210228T233904
CREATED:20210115T044043Z
LAST-MODIFIED:20210115T044043Z
UID:236574-1616695200-1616702400@supra.net.au
SUMMARY:SUPRA Wine & Cheese
DESCRIPTION:Details TBC. \n
URL:https://supra.net.au/event/supra-wine-cheese/
ATTACH;FMTTYPE=image/jpeg:https://supra.net.au/wp-content/uploads/Wine-and-cheese-01.jpg
END:VEVENT
END:VCALENDAR