BEGIN:VCALENDAR
VERSION:2.0
PRODID:-//SUPRA - ECPv5.1.4//NONSGML v1.0//EN
CALSCALE:GREGORIAN
METHOD:PUBLISH
X-WR-CALNAME:SUPRA
X-ORIGINAL-URL:https://supra.net.au
X-WR-CALDESC:Events for SUPRA
BEGIN:VTIMEZONE
TZID:Australia/Sydney
BEGIN:STANDARD
TZOFFSETFROM:+1100
TZOFFSETTO:+1000
TZNAME:AEST
DTSTART:20210403T160000
END:STANDARD
BEGIN:DAYLIGHT
TZOFFSETFROM:+1000
TZOFFSETTO:+1100
TZNAME:AEDT
DTSTART:20211002T160000
END:DAYLIGHT
END:VTIMEZONE
BEGIN:VEVENT
DTSTART;TZID=Australia/Sydney:20210226T153000
DTEND;TZID=Australia/Sydney:20210226T163000
DTSTAMP:20210228T233807
CREATED:20210224T035545Z
LAST-MODIFIED:20210225T060550Z
UID:236842-1614353400-1614357000@supra.net.au
SUMMARY:Orientation event: Join your international postgrad community TODAY!
DESCRIPTION:SUPRA is your postgraduate association at Sydney Uni. We have built a broad international postgraduate student community. We have invited several senior international postgraduate students (both onshore and offshore)\, to share their experiences\, as well as let you know about our free social events and sports for postgraduates only. Register for the event through the University planner.\n \n
URL:https://supra.net.au/event/orientation-event-join-your-international-postgrad-community-today/
LOCATION:Zoom
ATTACH;FMTTYPE=image/jpeg:https://supra.net.au/wp-content/uploads/_20200611165932-1-scaled-e1614233113184.jpg
END:VEVENT
END:VCALENDAR