BEGIN:VCALENDAR
VERSION:2.0
PRODID:-//SUPRA - ECPv5.1.4//NONSGML v1.0//EN
CALSCALE:GREGORIAN
METHOD:PUBLISH
X-WR-CALNAME:SUPRA
X-ORIGINAL-URL:https://supra.net.au
X-WR-CALDESC:Events for SUPRA
BEGIN:VTIMEZONE
TZID:Australia/Sydney
BEGIN:STANDARD
TZOFFSETFROM:+1100
TZOFFSETTO:+1000
TZNAME:AEST
DTSTART:20210403T160000
END:STANDARD
BEGIN:DAYLIGHT
TZOFFSETFROM:+1000
TZOFFSETTO:+1100
TZNAME:AEDT
DTSTART:20211002T160000
END:DAYLIGHT
END:VTIMEZONE
BEGIN:VEVENT
DTSTART;TZID=Australia/Sydney:20210226T163000
DTEND;TZID=Australia/Sydney:20210226T173000
DTSTAMP:20210228T233326
CREATED:20210224T042644Z
LAST-MODIFIED:20210225T060107Z
UID:236845-1614357000-1614360600@supra.net.au
SUMMARY:Orientation event: HDR community & survival tips
DESCRIPTION:Research can be tough and lonely\, and as HDR students\, we don’t receive enough useful peer information. SUPRA has invited 5 senior HDR students from different faculties to talk about their experiences on how to manage your research path\, maintain your mental health\, and balance your research and your life. Register for this online event through the University planner. \n
URL:https://supra.net.au/event/orientation-event-hdr-community-survival-tips/
LOCATION:Zoom
ATTACH;FMTTYPE=image/jpeg:https://supra.net.au/wp-content/uploads/laptop-zoom-meeting-with-cup-1.jpg
END:VEVENT
END:VCALENDAR