BEGIN:VCALENDAR
VERSION:2.0
PRODID:-//SUPRA - ECPv5.1.4//NONSGML v1.0//EN
CALSCALE:GREGORIAN
METHOD:PUBLISH
X-WR-CALNAME:SUPRA
X-ORIGINAL-URL:https://supra.net.au
X-WR-CALDESC:Events for SUPRA
BEGIN:VTIMEZONE
TZID:Australia/Sydney
BEGIN:STANDARD
TZOFFSETFROM:+1100
TZOFFSETTO:+1000
TZNAME:AEST
DTSTART:20210403T160000
END:STANDARD
BEGIN:DAYLIGHT
TZOFFSETFROM:+1000
TZOFFSETTO:+1100
TZNAME:AEDT
DTSTART:20211002T160000
END:DAYLIGHT
END:VTIMEZONE
BEGIN:VEVENT
DTSTART;TZID=Australia/Sydney:20210128T060000
DTEND;TZID=Australia/Sydney:20210128T200000
DTSTAMP:20210228T233739
CREATED:20210115T035241Z
LAST-MODIFIED:20210115T040123Z
UID:236552-1611813600-1611864000@supra.net.au
SUMMARY:January SUPRA Council meeting
DESCRIPTION:Details TBC. \nPlease check closer to the date\, or email secretary@supra.usyd.edu.au \n
URL:https://supra.net.au/event/january-supra-council-meeting/
ATTACH;FMTTYPE=image/png:https://supra.net.au/wp-content/uploads/SUPRA-Council-meetings-2021-01-2.png
ORGANIZER;CN="SUPRA%20Secretary":MAILTO:secretary@supra.usyd.edu.au
END:VEVENT
END:VCALENDAR